Workbook

Sheet 19524 Биология 5 класс
A1: Список участников появится после окончания олимпиады, если они будут

Sheet 19525 Биология 6 класс
A1: Часовой пояс | B1: Москва (МСК, UTC+3)
A3: Код | B3: ФИО | C3: Набранные баллы | D3: Максимальный балл | E3: ="Время начала сессии (" & VLOOKUP($B$1,TimeZones!$A$1:$C$28,3,FALSE) & ")" -> Время начала сессии (Москва) | F3: ="Время конца сессии (" & VLOOKUP($B$1,TimeZones!$A$1:$C$28,3,FALSE) & ")" -> Время конца сессии (Москва) | G3: Статус | H3: Грамота
A4: 19525/edu822234/6/g3972qz6 | B4: Бредихина Вера Сергеевна | C4: 22.4 | D4: 25 | E4: =46301.6584591427 + (VLOOKUP($B$1,TimeZones!$A$1:$C$28,2,FALSE))/24 -> 46301.783 | F4: =46301.6841450973 + (VLOOKUP($B$1,TimeZones!$A$1:$C$28,2,FALSE))/24 -> 46301.809 | G4: Победитель
A5: 19525/edu822234/6/q7zr84z8 | B5: Анденко Алиса Андреевна | C5: 21.2 | D5: 25 | E5: =46301.4954453872 + (VLOOKUP($B$1,TimeZones!$A$1:$C$28,2,FALSE))/24 -> 46301.62 | F5: =46301.5175918442 + (VLOOKUP($B$1,TimeZones!$A$1:$C$28,2,FALSE))/24 -> 46301.643 | G5: Призер
A6: 19525/edu822234/6/v6zq5rzw | B6: Камалутдинова Таисия Руслановна | C6: 20.6 | D6: 25 | E6: =46301.658973829 + (VLOOKUP($B$1,TimeZones!$A$1:$C$28,2,FALSE))/24 -> 46301.784 | F6: =46301.6787281267 + (VLOOKUP($B$1,TimeZones!$A$1:$C$28,2,FALSE))/24 -> 46301.804 | G6: Призер
A7: 19525/edu822234/6/2gz38693 | B7: Артемьева Александра Андреевна | C7: 20.4 | D7: 25 | E7: =46301.7162368232 + (VLOOKUP($B$1,TimeZones!$A$1:$C$28,2,FALSE))/24 -> 46301.841 | F7: =46301.7368791492 + (VLOOKUP($B$1,TimeZones!$A$1:$C$28,2,FALSE))/24 -> 46301.862 | G7: Призер
A8: 19525/edu822234/6/2qz2569v | B8: Евтихова Полина Алексеевна | C8: 14.4 | D8: 25 | E8: =46301.7075086125 + (VLOOKUP($B$1,TimeZones!$A$1:$C$28,2,FALSE))/24 -> 46301.833 | F8: =46301.7379494869 + (VLOOKUP($B$1,TimeZones!$A$1:$C$28,2,FALSE))/24 -> 46301.863 | G8: Призер
A9: 19525/edu822234/6/76z4r7zw | B9: Кузнецова Дарья Михайловна | C9: 12 | D9: 25 | E9: =46301.7146094711 + (VLOOKUP($B$1,TimeZones!$A$1:$C$28,2,FALSE))/24 -> 46301.84 | F9: =46301.7408035784 + (VLOOKUP($B$1,TimeZones!$A$1:$C$28,2,FALSE))/24 -> 46301.866 | G9: Участник
A10: 19525/edu822234/6/35z85w96 | B10: Симбирёва Полина Витальевна | C10: 11.2 | D10: 25 | E10: =46301.719030477 + (VLOOKUP($B$1,TimeZones!$A$1:$C$28,2,FALSE))/24 -> 46301.844 | F10: =46301.7362171224 + (VLOOKUP($B$1,TimeZones!$A$1:$C$28,2,FALSE))/24 -> 46301.861 | G10: Участник
A11: 19525/edu822234/6/v79vqqz2 | B11: Голуб Полина Артемовна | C11: 0 | D11: 25 | E11: =46301.5238693779 + (VLOOKUP($B$1,TimeZones!$A$1:$C$28,2,FALSE))/24 -> 46301.649 | F11: =46301.5655360445 + (VLOOKUP($B$1,TimeZones!$A$1:$C$28,2,FALSE))/24 -> 46301.691 | G11: Участник

Sheet 19526 Биология 7 класс
A1: Часовой пояс | B1: Москва (МСК, UTC+3)
A3: Код | B3: ФИО | C3: Набранные баллы | D3: Максимальный балл | E3: ="Время начала сессии (" & VLOOKUP($B$1,TimeZones!$A$1:$C$28,3,FALSE) & ")" -> Время начала сессии (Москва) | F3: ="Время конца сессии (" & VLOOKUP($B$1,TimeZones!$A$1:$C$28,3,FALSE) & ")" -> Время конца сессии (Москва) | G3: Статус | H3: Грамота
A4: 19526/edu822234/7/q5v5qzvw | B4: ЛЕВ ТУРЧЕНКО Станиславович | C4: 24.6 | D4: 30 | E4: =46302.5928338986 + (VLOOKUP($B$1,TimeZones!$A$1:$C$28,2,FALSE))/24 -> 46302.718 | F4: =46302.6133596579 + (VLOOKUP($B$1,TimeZones!$A$1:$C$28,2,FALSE))/24 -> 46302.738 | G4: Победитель
A5: 19526/edu822234/7/4zvqgrv2 | B5: Стариков Георгий Романович | C5: 23.4 | D5: 30 | E5: =46302.5720737966 + (VLOOKUP($B$1,TimeZones!$A$1:$C$28,2,FALSE))/24 -> 46302.697 | F5: =46302.600350587 + (VLOOKUP($B$1,TimeZones!$A$1:$C$28,2,FALSE))/24 -> 46302.725 | G5: Призер
A6: 19526/edu822234/7/q5v57zvw | B6: Токарева Таисия Алексеевна | C6: 22 | D6: 30 | E6: =46302.5568796886 + (VLOOKUP($B$1,TimeZones!$A$1:$C$28,2,FALSE))/24 -> 46302.682 | F6: =46302.5768171515 + (VLOOKUP($B$1,TimeZones!$A$1:$C$28,2,FALSE))/24 -> 46302.702 | G6: Призер
A7: 19526/edu822234/7/q8vz3q6z | B7: Коваленко Мария Александровна | C7: 11.2 | D7: 30 | E7: =46302.634819629 + (VLOOKUP($B$1,TimeZones!$A$1:$C$28,2,FALSE))/24 -> 46302.76 | F7: =46302.657110428 + (VLOOKUP($B$1,TimeZones!$A$1:$C$28,2,FALSE))/24 -> 46302.782 | G7: Участник

Sheet 19527 Биология 8 класс
A1: Часовой пояс | B1: Москва (МСК, UTC+3)
A3: Код | B3: ФИО | C3: Набранные баллы | D3: Максимальный балл | E3: ="Время начала сессии (" & VLOOKUP($B$1,TimeZones!$A$1:$C$28,3,FALSE) & ")" -> Время начала сессии (Москва) | F3: ="Время конца сессии (" & VLOOKUP($B$1,TimeZones!$A$1:$C$28,3,FALSE) & ")" -> Время конца сессии (Москва) | G3: Статус | H3: Грамота
A4: 19527/edu822234/8/35z8vwzw | B4: Берлова Полина Сергеевна | C4: 28.6 | D4: 33 | E4: =46302.7227848255 + (VLOOKUP($B$1,TimeZones!$A$1:$C$28,2,FALSE))/24 -> 46302.848 | F4: =46302.760125913 + (VLOOKUP($B$1,TimeZones!$A$1:$C$28,2,FALSE))/24 -> 46302.885 | G4: Победитель
A5: 19527/edu822234/8/g3675q67 | B5: Антонюк Елизаветы Афанасьевна | C5: 26.4 | D5: 33 | E5: =46302.5728944312 + (VLOOKUP($B$1,TimeZones!$A$1:$C$28,2,FALSE))/24 -> 46302.698 | F5: =46302.5986298431 + (VLOOKUP($B$1,TimeZones!$A$1:$C$28,2,FALSE))/24 -> 46302.724 | G5: Призер
A6: 19527/edu822234/8/g367rqz7 | B6: аметова жасмин эскендеровна | C6: 25.6 | D6: 33 | E6: =46302.5729008876 + (VLOOKUP($B$1,TimeZones!$A$1:$C$28,2,FALSE))/24 -> 46302.698 | F6: =46302.5986269347 + (VLOOKUP($B$1,TimeZones!$A$1:$C$28,2,FALSE))/24 -> 46302.724 | G6: Призер
A7: 19527/edu822234/8/97zvr7zq | B7: Эмирова Зарина Арсеновна | C7: 24.8 | D7: 33 | E7: =46302.5936393029 + (VLOOKUP($B$1,TimeZones!$A$1:$C$28,2,FALSE))/24 -> 46302.719 | F7: =46302.6264525338 + (VLOOKUP($B$1,TimeZones!$A$1:$C$28,2,FALSE))/24 -> 46302.751 | G7: Призер
A8: 19527/edu822234/8/2gz9v76r | B8: Козырь Арслан Дмитриевич | C8: 21.9 | D8: 33 | E8: =46302.6976442762 + (VLOOKUP($B$1,TimeZones!$A$1:$C$28,2,FALSE))/24 -> 46302.823 | F8: =46302.7318135067 + (VLOOKUP($B$1,TimeZones!$A$1:$C$28,2,FALSE))/24 -> 46302.857 | G8: Призер
A9: 19527/edu822234/8/q7zrg46v | B9: Козунко Татьяна Анатольевна | C9: 21.7 | D9: 33 | E9: =46302.7590446706 + (VLOOKUP($B$1,TimeZones!$A$1:$C$28,2,FALSE))/24 -> 46302.884 | F9: =46302.7724282368 + (VLOOKUP($B$1,TimeZones!$A$1:$C$28,2,FALSE))/24 -> 46302.897 | G9: Призер
A10: 19527/edu822234/8/q5z5v69r | B10: Попова Вероника Игоревна | C10: 19.6 | D10: 33 | E10: =46302.6722378131 + (VLOOKUP($B$1,TimeZones!$A$1:$C$28,2,FALSE))/24 -> 46302.797 | F10: =46302.6868591645 + (VLOOKUP($B$1,TimeZones!$A$1:$C$28,2,FALSE))/24 -> 46302.812 | G10: Призер
A11: 19527/edu822234/8/35z8w6wv | B11: Шлыкова Эллада Александровна | C11: 18.1 | D11: 33 | E11: =46302.6866192411 + (VLOOKUP($B$1,TimeZones!$A$1:$C$28,2,FALSE))/24 -> 46302.812 | F11: =46302.7131961308 + (VLOOKUP($B$1,TimeZones!$A$1:$C$28,2,FALSE))/24 -> 46302.838 | G11: Призер
A12: 19527/edu822234/8/2qz25v69 | B12: Мазур Мария Андреевна | C12: 13.6 | D12: 33 | E12: =46302.7538621605 + (VLOOKUP($B$1,TimeZones!$A$1:$C$28,2,FALSE))/24 -> 46302.879 | F12: =46302.7613097221 + (VLOOKUP($B$1,TimeZones!$A$1:$C$28,2,FALSE))/24 -> 46302.886 | G12: Участник
A13: 19527/edu822234/8/g3674qz7 | B13: Стахеева Елена Васильевна | C13: 13.6 | D13: 33 | E13: =46302.5975995978 + (VLOOKUP($B$1,TimeZones!$A$1:$C$28,2,FALSE))/24 -> 46302.723 | F13: =46302.629203233 + (VLOOKUP($B$1,TimeZones!$A$1:$C$28,2,FALSE))/24 -> 46302.754 | G13: Участник
A14: 19527/edu822234/8/q5z59vz9 | B14: Быкова Олеся Олеговна | C14: 11.3 | D14: 33 | E14: =46302.6803957311 + (VLOOKUP($B$1,TimeZones!$A$1:$C$28,2,FALSE))/24 -> 46302.805 | F14: =46302.6903719912 + (VLOOKUP($B$1,TimeZones!$A$1:$C$28,2,FALSE))/24 -> 46302.815 | G14: Участник

Sheet 19528 Биология 9 класс
A1: Часовой пояс | B1: Москва (МСК, UTC+3)
A3: Код | B3: ФИО | C3: Набранные баллы | D3: Максимальный балл | E3: ="Время начала сессии (" & VLOOKUP($B$1,TimeZones!$A$1:$C$28,3,FALSE) & ")" -> Время начала сессии (Москва) | F3: ="Время конца сессии (" & VLOOKUP($B$1,TimeZones!$A$1:$C$28,3,FALSE) & ")" -> Время конца сессии (Москва) | G3: Статус | H3: Грамота
A4: 19528/edu822234/9/q76rv963 | B4: Баринов Клим Максимович | C4: 31.6 | D4: 56 | E4: =46302.5920538374 + (VLOOKUP($B$1,TimeZones!$A$1:$C$28,2,FALSE))/24 -> 46302.717 | F4: =46302.6366297544 + (VLOOKUP($B$1,TimeZones!$A$1:$C$28,2,FALSE))/24 -> 46302.762 | G4: Призер

Sheet 19529 Биология 10 класс
A1: Список участников появится после окончания олимпиады, если они будут

Sheet 19530 Биология 11 класс
A1: Часовой пояс | B1: Москва (МСК, UTC+3)
A3: Код | B3: ФИО | C3: Набранные баллы | D3: Максимальный балл | E3: ="Время начала сессии (" & VLOOKUP($B$1,TimeZones!$A$1:$C$28,3,FALSE) & ")" -> Время начала сессии (Москва) | F3: ="Время конца сессии (" & VLOOKUP($B$1,TimeZones!$A$1:$C$28,3,FALSE) & ")" -> Время конца сессии (Москва) | G3: Статус | H3: Грамота
A4: 19530/edu822234/11/v7zvq435 | B4: Швец Сабина Сергеевна | C4: 19.5 | D4: 70 | E4: =46302.5390381096 + (VLOOKUP($B$1,TimeZones!$A$1:$C$28,2,FALSE))/24 -> 46302.664 | F4: =46302.5510232938 + (VLOOKUP($B$1,TimeZones!$A$1:$C$28,2,FALSE))/24 -> 46302.676 | G4: Участник

Sheet TimeZones
A1: UTC (МСК-3, UTC) | B1: 0 | C1: UTC
A2: Калининград (МСК-1, UTC+2) | B2: 2 | C2: Калининград
A3: Москва (МСК, UTC+3) | B3: 3 | C3: Москва
A4: Симферополь (МСК, UTC+3) | B4: 3 | C4: Симферополь
A5: Киров (МСК, UTC+3) | B5: 3 | C5: Киров
A6: Волгоград (МСК, UTC+3) | B6: 3 | C6: Волгоград
A7: Астрахань (МСК+1, UTC+4) | B7: 4 | C7: Астрахань
A8: Саратов (МСК+1, UTC+4) | B8: 4 | C8: Саратов
A9: Ульяновск (МСК+1, UTC+4) | B9: 4 | C9: Ульяновск
A10: Самара (МСК+1, UTC+4) | B10: 4 | C10: Самара
A11: Екатеринбург (МСК+2, UTC+5) | B11: 5 | C11: Екатеринбург
A12: Омск (МСК+3, UTC+6) | B12: 6 | C12: Омск
... A28: Анадырь (МСК+9, UTC+12) | B28: 12 | C28: Анадырь
