Workbook

Sheet 19701 Химия 7 класс
A1: Список участников появится после окончания олимпиады, если они будут

Sheet 19702 Химия 8 класс
A1: Часовой пояс | B1: Москва (МСК, UTC+3)
A3: Код | B3: ФИО | C3: Набранные баллы | D3: Максимальный балл | E3: ="Время начала сессии (" & VLOOKUP($B$1,TimeZones!$A$1:$C$28,3,FALSE) & ")" -> Время начала сессии (Москва) | F3: ="Время конца сессии (" & VLOOKUP($B$1,TimeZones!$A$1:$C$28,3,FALSE) & ")" -> Время конца сессии (Москва) | G3: Статус | H3: Грамота
A4: 19702/edu822234/8/35v87w46 | B4: Ермоленко Полина Сергеевна | C4: 47 | D4: 50 | E4: =46310.5854660757 + (VLOOKUP($B$1,TimeZones!$A$1:$C$28,2,FALSE))/24 -> 46310.71 | F4: =46310.6687994091 + (VLOOKUP($B$1,TimeZones!$A$1:$C$28,2,FALSE))/24 -> 46310.794 | G4: Победитель
A5: 19702/edu822234/8/2g495646 | B5: Аметова Жасмин Эскендеровна | C5: 44 | D5: 50 | E5: =46310.55563239 + (VLOOKUP($B$1,TimeZones!$A$1:$C$28,2,FALSE))/24 -> 46310.681 | F5: =46310.5777206316 + (VLOOKUP($B$1,TimeZones!$A$1:$C$28,2,FALSE))/24 -> 46310.703 | G5: Призер
A6: 19702/edu822234/8/w7vw246g | B6: Ситникова Мирра Денисовна | C6: 42.2 | D6: 50 | E6: =46310.6374016372 + (VLOOKUP($B$1,TimeZones!$A$1:$C$28,2,FALSE))/24 -> 46310.762 | F6: =46310.6472951775 + (VLOOKUP($B$1,TimeZones!$A$1:$C$28,2,FALSE))/24 -> 46310.772 | G6: Призер
A7: 19702/edu822234/8/g3475q45 | B7: Кирьянова Дарья Сергеевна | C7: 38 | D7: 50 | E7: =46310.7031085219 + (VLOOKUP($B$1,TimeZones!$A$1:$C$28,2,FALSE))/24 -> 46310.828 | F7: =46310.7205794567 + (VLOOKUP($B$1,TimeZones!$A$1:$C$28,2,FALSE))/24 -> 46310.846 | G7: Призер
A8: 19702/edu822234/8/g347rqv5 | B8: Мазур Мария Андреевна | C8: 37.5 | D8: 50 | E8: =46310.6173715968 + (VLOOKUP($B$1,TimeZones!$A$1:$C$28,2,FALSE))/24 -> 46310.742 | F8: =46310.646522607 + (VLOOKUP($B$1,TimeZones!$A$1:$C$28,2,FALSE))/24 -> 46310.772 | G8: Призер
A9: 19702/edu822234/8/z7vg8483 | B9: Козунко Татьяна Анатольевна | C9: 34.5 | D9: 50 | E9: =46310.666106595 + (VLOOKUP($B$1,TimeZones!$A$1:$C$28,2,FALSE))/24 -> 46310.791 | F9: =46310.6789832049 + (VLOOKUP($B$1,TimeZones!$A$1:$C$28,2,FALSE))/24 -> 46310.804 | G9: Призер
A10: 19702/edu822234/8/q5v56439 | B10: Рей Сергей Николаевич | C10: 32.2 | D10: 50 | E10: =46310.6285053101 + (VLOOKUP($B$1,TimeZones!$A$1:$C$28,2,FALSE))/24 -> 46310.754 | F10: =46310.6490734475 + (VLOOKUP($B$1,TimeZones!$A$1:$C$28,2,FALSE))/24 -> 46310.774 | G10: Призер
A11: 19702/edu822234/8/z3v2764g | B11: Суфянова Сафие Эскендеровна | C11: 28.5 | D11: 50 | E11: =46310.6492801496 + (VLOOKUP($B$1,TimeZones!$A$1:$C$28,2,FALSE))/24 -> 46310.774 | F11: =46310.6606404355 + (VLOOKUP($B$1,TimeZones!$A$1:$C$28,2,FALSE))/24 -> 46310.786 | G11: Призер
A12: 19702/edu822234/8/2g497646 | B12: Безнос Анастасия Николаевна | C12: 28 | D12: 50 | E12: =46310.6615777409 + (VLOOKUP($B$1,TimeZones!$A$1:$C$28,2,FALSE))/24 -> 46310.787 | F12: =46310.7088999598 + (VLOOKUP($B$1,TimeZones!$A$1:$C$28,2,FALSE))/24 -> 46310.834 | G12: Призер
A13: 19702/edu822234/8/q84z7gv6 | B13: Эмирова Зарина Арсеновна | C13: 27 | D13: 50 | E13: =46310.6548068523 + (VLOOKUP($B$1,TimeZones!$A$1:$C$28,2,FALSE))/24 -> 46310.78 | F13: =46310.6866435074 + (VLOOKUP($B$1,TimeZones!$A$1:$C$28,2,FALSE))/24 -> 46310.812 | G13: Призер
A14: 19702/edu822234/8/q5v5z643 | B14: Саган Василиса Сергеевна | C14: 26.5 | D14: 50 | E14: =46310.7013019218 + (VLOOKUP($B$1,TimeZones!$A$1:$C$28,2,FALSE))/24 -> 46310.826 | F14: =46310.7093954245 + (VLOOKUP($B$1,TimeZones!$A$1:$C$28,2,FALSE))/24 -> 46310.834 | G14: Призер
A15: 19702/edu822234/8/z6vqgrvw | B15: Пашко Егор Анатольевич | C15: 25 | D15: 50 | E15: =46310.5991251908 + (VLOOKUP($B$1,TimeZones!$A$1:$C$28,2,FALSE))/24 -> 46310.724 | F15: =46310.6138822043 + (VLOOKUP($B$1,TimeZones!$A$1:$C$28,2,FALSE))/24 -> 46310.739 | G15: Участник
A16: 19702/edu822234/8/35v83w46 | B16: Якубов Марлен Русланович | C16: 7 | D16: 50 | E16: =46310.6972044377 + (VLOOKUP($B$1,TimeZones!$A$1:$C$28,2,FALSE))/24 -> 46310.822 | F16: =46310.7150730523 + (VLOOKUP($B$1,TimeZones!$A$1:$C$28,2,FALSE))/24 -> 46310.84 | G16: Участник

Sheet 19703 Химия 9 класс
A1: Часовой пояс | B1: Москва (МСК, UTC+3)
A3: Код | B3: ФИО | C3: Набранные баллы | D3: Максимальный балл | E3: ="Время начала сессии (" & VLOOKUP($B$1,TimeZones!$A$1:$C$28,3,FALSE) & ")" -> Время начала сессии (Москва) | F3: ="Время конца сессии (" & VLOOKUP($B$1,TimeZones!$A$1:$C$28,3,FALSE) & ")" -> Время конца сессии (Москва) | G3: Статус | H3: Грамота
A4: 19703/edu822234/9/v79vqqz2 | B4: Роман Иванов Сергеевич | C4: 44 | D4: 50 | E4: =46310.7681968378 + (VLOOKUP($B$1,TimeZones!$A$1:$C$28,2,FALSE))/24 -> 46310.893 | F4: =46310.7809695271 + (VLOOKUP($B$1,TimeZones!$A$1:$C$28,2,FALSE))/24 -> 46310.906 | G4: Победитель
A5: 19703/edu822234/9/v79vrq92 | B5: Васянина Анна Сергеевна | C5: 43 | D5: 50 | E5: =46310.7751746773 + (VLOOKUP($B$1,TimeZones!$A$1:$C$28,2,FALSE))/24 -> 46310.9 | F5: =46310.7900729077 + (VLOOKUP($B$1,TimeZones!$A$1:$C$28,2,FALSE))/24 -> 46310.915 | G5: Призер
A6: 19703/edu822234/9/q5z56694 | B6: Безьянов Георгий Андреевич | C6: 41 | D6: 50 | E6: =46310.7338467011 + (VLOOKUP($B$1,TimeZones!$A$1:$C$28,2,FALSE))/24 -> 46310.859 | F6: =46310.7458950071 + (VLOOKUP($B$1,TimeZones!$A$1:$C$28,2,FALSE))/24 -> 46310.871 | G6: Призер
A7: 19703/edu822234/9/v79vvq92 | B7: Зюбан Мария Алексеевна | C7: 39 | D7: 50 | E7: =46310.6340502362 + (VLOOKUP($B$1,TimeZones!$A$1:$C$28,2,FALSE))/24 -> 46310.759 | F7: =46310.6613288725 + (VLOOKUP($B$1,TimeZones!$A$1:$C$28,2,FALSE))/24 -> 46310.786 | G7: Призер
A8: 19703/edu822234/9/q7zr5498 | B8: Митюкляева Елизавета Юрьевна | C8: 37 | D8: 50 | E8: =46310.6334853728 + (VLOOKUP($B$1,TimeZones!$A$1:$C$28,2,FALSE))/24 -> 46310.758 | F8: =46310.650894137 + (VLOOKUP($B$1,TimeZones!$A$1:$C$28,2,FALSE))/24 -> 46310.776 | G8: Призер
A9: 19703/edu822234/9/v7zg6894 | B9: Писанко Глеб Денисович | C9: 28.5 | D9: 50 | E9: =46310.7844786933 + (VLOOKUP($B$1,TimeZones!$A$1:$C$28,2,FALSE))/24 -> 46310.909 | F9: =46310.7916666667 + (VLOOKUP($B$1,TimeZones!$A$1:$C$28,2,FALSE))/24 -> 46310.917 | G9: Призер
A10: 19703/edu822234/9/q5z576z4 | B10: Аблямитова Мерьем Янушовна | C10: 27 | D10: 50 | E10: =46310.6947249183 + (VLOOKUP($B$1,TimeZones!$A$1:$C$28,2,FALSE))/24 -> 46310.82 | F10: =46310.7058394824 + (VLOOKUP($B$1,TimeZones!$A$1:$C$28,2,FALSE))/24 -> 46310.831 | G10: Призер
A11: 19703/edu822234/9/g3972qz6 | B11: Исатова Гульмира Ризвановна | C11: 21 | D11: 50 | E11: =46310.6086906754 + (VLOOKUP($B$1,TimeZones!$A$1:$C$28,2,FALSE))/24 -> 46310.734 | F11: =46310.6139252761 + (VLOOKUP($B$1,TimeZones!$A$1:$C$28,2,FALSE))/24 -> 46310.739 | G11: Участник
A12: 19703/edu822234/9/2gz376z3 | B12: иксанов данис рустамович | C12: 20 | D12: 50 | E12: =46310.76737429 + (VLOOKUP($B$1,TimeZones!$A$1:$C$28,2,FALSE))/24 -> 46310.892 | F12: =46310.7800606352 + (VLOOKUP($B$1,TimeZones!$A$1:$C$28,2,FALSE))/24 -> 46310.905 | G12: Участник
A13: 19703/edu822234/9/v6zq6r9w | B13: Ярош Глеб Игоревич | C13: 18 | D13: 50 | E13: =46310.7086194548 + (VLOOKUP($B$1,TimeZones!$A$1:$C$28,2,FALSE))/24 -> 46310.834 | F13: =46310.7367372567 + (VLOOKUP($B$1,TimeZones!$A$1:$C$28,2,FALSE))/24 -> 46310.862 | G13: Участник
A14: 19703/edu822234/9/v79v4q92 | B14: Кобяшева Диана Олеговна | C14: 17 | D14: 50 | E14: =46310.7569746209 + (VLOOKUP($B$1,TimeZones!$A$1:$C$28,2,FALSE))/24 -> 46310.882 | F14: =46310.7723986849 + (VLOOKUP($B$1,TimeZones!$A$1:$C$28,2,FALSE))/24 -> 46310.897 | G14: Участник
A15: 19703/edu822234/9/35z87w96 | B15: Склярова Валентина Викторовна | C15: 9 | D15: 50 | E15: =46310.6400720061 + (VLOOKUP($B$1,TimeZones!$A$1:$C$28,2,FALSE))/24 -> 46310.765 | F15: =46310.659977581 + (VLOOKUP($B$1,TimeZones!$A$1:$C$28,2,FALSE))/24 -> 46310.785 | G15: Участник
A16: 19703/edu822234/9/68z6gr92 | B16: Ибрагимов Умар Юсуфович | C16: 0 | D16: 50 | E16: =46310.7909339715 + (VLOOKUP($B$1,TimeZones!$A$1:$C$28,2,FALSE))/24 -> 46310.916 | F16: =46310.7916666667 + (VLOOKUP($B$1,TimeZones!$A$1:$C$28,2,FALSE))/24 -> 46310.917 | G16: Участник
A17: 19703/edu822234/9/w7zw429g | B17: Менсеитова Анифе Сейрановна | C17: 0 | D17: 50 | E17: =46310.7860531058 + (VLOOKUP($B$1,TimeZones!$A$1:$C$28,2,FALSE))/24 -> 46310.911 | F17: =46310.7916666667 + (VLOOKUP($B$1,TimeZones!$A$1:$C$28,2,FALSE))/24 -> 46310.917 | G17: Участник

Sheet 19704 Химия 10 класс
A1: Часовой пояс | B1: Москва (МСК, UTC+3)
A3: Код | B3: ФИО | C3: Набранные баллы | D3: Максимальный балл | E3: ="Время начала сессии (" & VLOOKUP($B$1,TimeZones!$A$1:$C$28,3,FALSE) & ")" -> Время начала сессии (Москва) | F3: ="Время конца сессии (" & VLOOKUP($B$1,TimeZones!$A$1:$C$28,3,FALSE) & ")" -> Время конца сессии (Москва) | G3: Статус | H3: Грамота
A4: 19704/edu822234/10/q5v5qzvw | B4: Ксензова Валерия Алексеевна | C4: 48 | D4: 50 | E4: =46310.5967543059 + (VLOOKUP($B$1,TimeZones!$A$1:$C$28,2,FALSE))/24 -> 46310.722 | F4: =46310.6138603341 + (VLOOKUP($B$1,TimeZones!$A$1:$C$28,2,FALSE))/24 -> 46310.739 | G4: Победитель
A5: 19704/edu822234/10/2g69zv4r | B5: Ягьяева Адель Тимуровна | C5: 44.5 | D5: 50 | E5: =46310.7223086449 + (VLOOKUP($B$1,TimeZones!$A$1:$C$28,2,FALSE))/24 -> 46310.847 | F5: =46310.744439244 + (VLOOKUP($B$1,TimeZones!$A$1:$C$28,2,FALSE))/24 -> 46310.869 | G5: Призер
A6: 19704/edu822234/10/q7vr96gr | B6: Матиец Максим Александрович | C6: 44 | D6: 50 | E6: =46310.6195805629 + (VLOOKUP($B$1,TimeZones!$A$1:$C$28,2,FALSE))/24 -> 46310.745 | F6: =46310.7029138962 + (VLOOKUP($B$1,TimeZones!$A$1:$C$28,2,FALSE))/24 -> 46310.828 | G6: Призер
A7: 19704/edu822234/10/4zvqr623 | B7: Басов Дмитрий Сергеевич | C7: 43.5 | D7: 50 | E7: =46310.7031633372 + (VLOOKUP($B$1,TimeZones!$A$1:$C$28,2,FALSE))/24 -> 46310.828 | F7: =46310.7097775436 + (VLOOKUP($B$1,TimeZones!$A$1:$C$28,2,FALSE))/24 -> 46310.835 | G7: Призер
A8: 19704/edu822234/10/g367q678 | B8: Ягьяева Эдие Алимовна | C8: 42.5 | D8: 50 | E8: =46310.5658383399 + (VLOOKUP($B$1,TimeZones!$A$1:$C$28,2,FALSE))/24 -> 46310.691 | F8: =46310.5821010921 + (VLOOKUP($B$1,TimeZones!$A$1:$C$28,2,FALSE))/24 -> 46310.707 | G8: Призер
A9: 19704/edu822234/10/47vgr863 | B9: Сеитаджиева Мавиле Серверовна | C9: 41.5 | D9: 50 | E9: =46310.5678110128 + (VLOOKUP($B$1,TimeZones!$A$1:$C$28,2,FALSE))/24 -> 46310.693 | F9: =46310.5820988479 + (VLOOKUP($B$1,TimeZones!$A$1:$C$28,2,FALSE))/24 -> 46310.707 | G9: Призер
A10: 19704/edu822234/10/7z64r68w | B10: Филь Иван Николаевич | C10: 41.5 | D10: 50 | E10: =46310.7550761654 + (VLOOKUP($B$1,TimeZones!$A$1:$C$28,2,FALSE))/24 -> 46310.88 | F10: =46310.7840818304 + (VLOOKUP($B$1,TimeZones!$A$1:$C$28,2,FALSE))/24 -> 46310.909 | G10: Призер
A11: 19704/edu822234/10/q5v5z6wg | B11: Горобцов Андрей Юрьевич | C11: 37.6 | D11: 50 | E11: =46310.6934058893 + (VLOOKUP($B$1,TimeZones!$A$1:$C$28,2,FALSE))/24 -> 46310.818 | F11: =46310.7391597612 + (VLOOKUP($B$1,TimeZones!$A$1:$C$28,2,FALSE))/24 -> 46310.864 | G11: Призер
A12: 19704/edu822234/10/q8vzgq6z | B12: Хромых Александр Максимович | C12: 33.6 | D12: 50 | E12: =46310.5897055719 + (VLOOKUP($B$1,TimeZones!$A$1:$C$28,2,FALSE))/24 -> 46310.715 | F12: =46310.6462893403 + (VLOOKUP($B$1,TimeZones!$A$1:$C$28,2,FALSE))/24 -> 46310.771 | G12: Призер
A13: 19704/edu822234/10/47vg863z | B13: Юршин Герман Александрович | C13: 24 | D13: 50 | E13: =46310.726821187 + (VLOOKUP($B$1,TimeZones!$A$1:$C$28,2,FALSE))/24 -> 46310.852 | F13: =46310.7326048 + (VLOOKUP($B$1,TimeZones!$A$1:$C$28,2,FALSE))/24 -> 46310.858 | G13: участник
A14: 19704/edu822234/10/35v8w647 | B14: Ворожбит Полина Сергеевна | C14: 18.9 | D14: 50 | E14: =46310.7445331779 + (VLOOKUP($B$1,TimeZones!$A$1:$C$28,2,FALSE))/24 -> 46310.87 | F14: =46310.7657743314 + (VLOOKUP($B$1,TimeZones!$A$1:$C$28,2,FALSE))/24 -> 46310.891 | G14: участник

Sheet 19705 Химия 11 класс
A1: Часовой пояс | B1: Москва (МСК, UTC+3)
A3: Код | B3: ФИО | C3: Набранные баллы | D3: Максимальный балл | E3: ="Время начала сессии (" & VLOOKUP($B$1,TimeZones!$A$1:$C$28,3,FALSE) & ")" -> Время начала сессии (Москва) | F3: ="Время конца сессии (" & VLOOKUP($B$1,TimeZones!$A$1:$C$28,3,FALSE) & ")" -> Время конца сессии (Москва) | G3: Статус | H3: Грамота
A4: 19705/edu822234/11/97zg86r3 | B4: Богданова Влада Сергеевна | C4: 42 | D4: 50 | E4: =46310.7101543151 + (VLOOKUP($B$1,TimeZones!$A$1:$C$28,2,FALSE))/24 -> 46310.835 | F4: =46310.7412249041 + (VLOOKUP($B$1,TimeZones!$A$1:$C$28,2,FALSE))/24 -> 46310.866 | G4: Победитель
A5: 19705/edu822234/11/97zgr86r | B5: Бекирова Милана Серверовна | C5: 41 | D5: 50 | E5: =46310.5729485812 + (VLOOKUP($B$1,TimeZones!$A$1:$C$28,2,FALSE))/24 -> 46310.698 | F5: =46310.5942907954 + (VLOOKUP($B$1,TimeZones!$A$1:$C$28,2,FALSE))/24 -> 46310.719 | G5: Призер
A6: 19705/edu822234/11/w7zw269q | B6: Пикусь Ангелина Юрьевна | C6: 28 | D6: 50 | E6: =46310.7404952728 + (VLOOKUP($B$1,TimeZones!$A$1:$C$28,2,FALSE))/24 -> 46310.865 | F6: =46310.7544363321 + (VLOOKUP($B$1,TimeZones!$A$1:$C$28,2,FALSE))/24 -> 46310.879 | G6: Участник
A7: 19705/edu822234/11/35z8w6wv | B7: Идрисов Тимофей Арсланович | C7: 23 | D7: 50 | E7: =46310.7110149009 + (VLOOKUP($B$1,TimeZones!$A$1:$C$28,2,FALSE))/24 -> 46310.836 | F7: =46310.7407575208 + (VLOOKUP($B$1,TimeZones!$A$1:$C$28,2,FALSE))/24 -> 46310.866 | G7: Участник

Sheet TimeZones
A1: UTC (МСК-3, UTC) | B1: 0 | C1: UTC
A2: Калининград (МСК-1, UTC+2) | B2: 2 | C2: Калининград
A3: Москва (МСК, UTC+3) | B3: 3 | C3: Москва
A4: Симферополь (МСК, UTC+3) | B4: 3 | C4: Симферополь
A5: Киров (МСК, UTC+3) | B5: 3 | C5: Киров
A6: Волгоград (МСК, UTC+3) | B6: 3 | C6: Волгоград
A7: Астрахань (МСК+1, UTC+4) | B7: 4 | C7: Астрахань
A8: Саратов (МСК+1, UTC+4) | B8: 4 | C8: Саратов
A9: Ульяновск (МСК+1, UTC+4) | B9: 4 | C9: Ульяновск
A10: Самара (МСК+1, UTC+4) | B10: 4 | C10: Самара
A11: Екатеринбург (МСК+2, UTC+5) | B11: 5 | C11: Екатеринбург
A12: Омск (МСК+3, UTC+6) | B12: 6 | C12: Омск
... A28: Анадырь (МСК+9, UTC+12) | B28: 12 | C28: Анадырь
