Workbook

Sheet 19667 Математика 4 класс
A1: Часовой пояс | B1: Москва (МСК, UTC+3)
A3: Код | B3: ФИО | C3: Набранные баллы | D3: Максимальный балл | E3: ="Время начала сессии (" & VLOOKUP($B$1,TimeZones!$A$1:$C$28,3,FALSE) & ")" -> Время начала сессии (Москва) | F3: ="Время конца сессии (" & VLOOKUP($B$1,TimeZones!$A$1:$C$28,3,FALSE) & ")" -> Время конца сессии (Москва) | G3: Статус | H3: Грамота
A4: 19667/edu822234/4/g3977q9r | B4: Мартьянов Артём Сергеевич | C4: 51 | D4: 56 | E4: =46308.6817945211 + (VLOOKUP($B$1,TimeZones!$A$1:$C$28,2,FALSE))/24 -> 46308.807 | F4: =46308.7148785104 + (VLOOKUP($B$1,TimeZones!$A$1:$C$28,2,FALSE))/24 -> 46308.84 | G4: Победитель
A5: 19667/edu822234/4/2q62wv9z | B5: Усеинов Эрвин Саитхалилович | C5: 37 | D5: 56 | E5: =46308.4990627228 + (VLOOKUP($B$1,TimeZones!$A$1:$C$28,2,FALSE))/24 -> 46308.624 | F5: =46308.5407293894 + (VLOOKUP($B$1,TimeZones!$A$1:$C$28,2,FALSE))/24 -> 46308.666 | G5: Призер
A6: 19667/edu822234/4/7v647794 | B6: Коток Аделина Андреевна | C6: 30 | D6: 56 | E6: =46308.5792256194 + (VLOOKUP($B$1,TimeZones!$A$1:$C$28,2,FALSE))/24 -> 46308.704 | F6: =46308.60659377 + (VLOOKUP($B$1,TimeZones!$A$1:$C$28,2,FALSE))/24 -> 46308.732 | G6: Призер
A7: 19667/edu822234/4/q76r846z | B7: Жирнов Ярослав Алексеевич | C7: 23 | D7: 56 | E7: =46308.547550166 + (VLOOKUP($B$1,TimeZones!$A$1:$C$28,2,FALSE))/24 -> 46308.673 | F7: =46308.587497586 + (VLOOKUP($B$1,TimeZones!$A$1:$C$28,2,FALSE))/24 -> 46308.712 | G7: Участник
A8: 19667/edu822234/4/z76g4895 | B8: Шабанов Мустафа Февзиевич | C8: 19 | D8: 56 | E8: =46308.7325838319 + (VLOOKUP($B$1,TimeZones!$A$1:$C$28,2,FALSE))/24 -> 46308.858 | F8: =46308.7742504986 + (VLOOKUP($B$1,TimeZones!$A$1:$C$28,2,FALSE))/24 -> 46308.899 | G8: Участник
A9: 19667/edu822234/4/q565vv9w | B9: Симбирёва Мелания Олеговна | C9: 16 | D9: 56 | E9: =46308.7085798676 + (VLOOKUP($B$1,TimeZones!$A$1:$C$28,2,FALSE))/24 -> 46308.834 | F9: =46308.7442613455 + (VLOOKUP($B$1,TimeZones!$A$1:$C$28,2,FALSE))/24 -> 46308.869 | G9: Участник
A10: 19667/edu822234/4/q89z3g6v | B10: Струнина София Павловна | C10: 9 | D10: 56 | E10: =46308.7750906144 + (VLOOKUP($B$1,TimeZones!$A$1:$C$28,2,FALSE))/24 -> 46308.9 | F10: =46308.7916666667 + (VLOOKUP($B$1,TimeZones!$A$1:$C$28,2,FALSE))/24 -> 46308.917 | G10: Участник
A11: 19667/edu822234/4/q76r46zw | B11: Сулейманов Амир Самирович | C11: 0 | D11: 56 | E11: =46308.7072811349 + (VLOOKUP($B$1,TimeZones!$A$1:$C$28,2,FALSE))/24 -> 46308.832 | F11: =46308.7403552568 + (VLOOKUP($B$1,TimeZones!$A$1:$C$28,2,FALSE))/24 -> 46308.865 | G11: Участник

Sheet 19668 Математика 5 класс
A1: Часовой пояс | B1: Москва (МСК, UTC+3)
A3: Код | B3: ФИО | C3: Набранные баллы | D3: Максимальный балл | E3: ="Время начала сессии (" & VLOOKUP($B$1,TimeZones!$A$1:$C$28,3,FALSE) & ")" -> Время начала сессии (Москва) | F3: ="Время конца сессии (" & VLOOKUP($B$1,TimeZones!$A$1:$C$28,3,FALSE) & ")" -> Время конца сессии (Москва) | G3: Статус | H3: Грамота
A4: 19668/edu822234/5/q5v5q6v3 | B4: Гафарова Асие Элимдаровна | C4: 49 | D4: 56 | E4: =46308.7012696332 + (VLOOKUP($B$1,TimeZones!$A$1:$C$28,2,FALSE))/24 -> 46308.826 | F4: =46308.7429362999 + (VLOOKUP($B$1,TimeZones!$A$1:$C$28,2,FALSE))/24 -> 46308.868 | G4: Победитель
A5: 19668/edu822234/5/2g4966v6 | B5: Подольская Елизавета Антоновна | C5: 25 | D5: 56 | E5: =46308.6332914551 + (VLOOKUP($B$1,TimeZones!$A$1:$C$28,2,FALSE))/24 -> 46308.758 | F5: =46308.6727991185 + (VLOOKUP($B$1,TimeZones!$A$1:$C$28,2,FALSE))/24 -> 46308.798 | G5: Призер
A6: 19668/edu822234/5/35v8ww46 | B6: Солупаева Мария Станиславовна | C6: 23 | D6: 56 | E6: =46308.7350059573 + (VLOOKUP($B$1,TimeZones!$A$1:$C$28,2,FALSE))/24 -> 46308.86 | F6: =46308.754808549 + (VLOOKUP($B$1,TimeZones!$A$1:$C$28,2,FALSE))/24 -> 46308.88 | G6: участник
A7: 19668/edu822234/5/z3v26vg9 | B7: Тютенко Максим Андреевич | C7: 17 | D7: 56 | E7: =46308.7031042776 + (VLOOKUP($B$1,TimeZones!$A$1:$C$28,2,FALSE))/24 -> 46308.828 | F7: =46308.7325526693 + (VLOOKUP($B$1,TimeZones!$A$1:$C$28,2,FALSE))/24 -> 46308.858 | G7: участник
A8: 19668/edu822234/5/q5v5g6v3 | B8: Николаев Даниил Дмитриевич | C8: 13 | D8: 56 | E8: =46308.6958601075 + (VLOOKUP($B$1,TimeZones!$A$1:$C$28,2,FALSE))/24 -> 46308.821 | F8: =46308.7126165798 + (VLOOKUP($B$1,TimeZones!$A$1:$C$28,2,FALSE))/24 -> 46308.838 | G8: участник
A9: 19668/edu822234/5/g347rqv5 | B9: Пархоменко Кирилл Максимович | C9: 13 | D9: 56 | E9: =46308.6654288601 + (VLOOKUP($B$1,TimeZones!$A$1:$C$28,2,FALSE))/24 -> 46308.79 | F9: =46308.7070955268 + (VLOOKUP($B$1,TimeZones!$A$1:$C$28,2,FALSE))/24 -> 46308.832 | G9: участник
A10: 19668/edu822234/5/68v6gr47 | B10: Баранов Михаил Вадимович | C10: 11 | D10: 56 | E10: =46308.5202613031 + (VLOOKUP($B$1,TimeZones!$A$1:$C$28,2,FALSE))/24 -> 46308.645 | F10: =46308.5619279698 + (VLOOKUP($B$1,TimeZones!$A$1:$C$28,2,FALSE))/24 -> 46308.687 | G10: участник

Sheet 19669 Математика 6 класс
A1: Часовой пояс | B1: Москва (МСК, UTC+3)
A3: Код | B3: ФИО | C3: Набранные баллы | D3: Максимальный балл | E3: ="Время начала сессии (" & VLOOKUP($B$1,TimeZones!$A$1:$C$28,3,FALSE) & ")" -> Время начала сессии (Москва) | F3: ="Время конца сессии (" & VLOOKUP($B$1,TimeZones!$A$1:$C$28,3,FALSE) & ")" -> Время конца сессии (Москва) | G3: Статус | H3: Грамота
A4: 19669/edu822234/6/q7zr84z8 | B4: Якимович Егор Алексеевич | C4: 39 | D4: 56 | E4: =46308.695242029 + (VLOOKUP($B$1,TimeZones!$A$1:$C$28,2,FALSE))/24 -> 46308.82 | F4: =46308.7204301526 + (VLOOKUP($B$1,TimeZones!$A$1:$C$28,2,FALSE))/24 -> 46308.845 | G4: Призер
A5: 19669/edu822234/6/v7zgv894 | B5: Бредихина Вера Сергеевна | C5: 35 | D5: 56 | E5: =46308.6098155887 + (VLOOKUP($B$1,TimeZones!$A$1:$C$28,2,FALSE))/24 -> 46308.735 | F5: =46308.6723155887 + (VLOOKUP($B$1,TimeZones!$A$1:$C$28,2,FALSE))/24 -> 46308.797 | G5: Призер
A6: 19669/edu822234/6/g397rqz6 | B6: Бекиров Эдуард Борисович | C6: 34 | D6: 56 | E6: =46308.6415412731 + (VLOOKUP($B$1,TimeZones!$A$1:$C$28,2,FALSE))/24 -> 46308.767 | F6: =46308.6567102502 + (VLOOKUP($B$1,TimeZones!$A$1:$C$28,2,FALSE))/24 -> 46308.782 | G6: Призер
A7: 19669/edu822234/6/76z4779w | B7: Зюбан Ангелина Алексеевна | C7: 33 | D7: 56 | E7: =46308.6699389672 + (VLOOKUP($B$1,TimeZones!$A$1:$C$28,2,FALSE))/24 -> 46308.795 | F7: =46308.7222617296 + (VLOOKUP($B$1,TimeZones!$A$1:$C$28,2,FALSE))/24 -> 46308.847 | G7: Призер
A8: 19669/edu822234/6/q5z5g6z4 | B8: Ткачёва Злата Дмитриевна | C8: 31 | D8: 56 | E8: =46308.5922386615 + (VLOOKUP($B$1,TimeZones!$A$1:$C$28,2,FALSE))/24 -> 46308.717 | F8: =46308.6233947568 + (VLOOKUP($B$1,TimeZones!$A$1:$C$28,2,FALSE))/24 -> 46308.748 | G8: Призер
A9: 19669/edu822234/6/v79v4q92 | B9: Шпиталевская Ева Вадимовна | C9: 28 | D9: 56 | E9: =46308.7271989271 + (VLOOKUP($B$1,TimeZones!$A$1:$C$28,2,FALSE))/24 -> 46308.852 | F9: =46308.7329010048 + (VLOOKUP($B$1,TimeZones!$A$1:$C$28,2,FALSE))/24 -> 46308.858 | G9: Призер
A10: 19669/edu822234/6/g397q962 | B10: Симбирёва Полина Витальевна | C10: 21 | D10: 56 | E10: =46308.7129317651 + (VLOOKUP($B$1,TimeZones!$A$1:$C$28,2,FALSE))/24 -> 46308.838 | F10: =46308.7750109173 + (VLOOKUP($B$1,TimeZones!$A$1:$C$28,2,FALSE))/24 -> 46308.9 | G10: Участник
A11: 19669/edu822234/6/35z86wz6 | B11: Камалутдинова Таисия Руслановна | C11: 9 | D11: 56 | E11: =46308.5242288648 + (VLOOKUP($B$1,TimeZones!$A$1:$C$28,2,FALSE))/24 -> 46308.649 | F11: =46308.5628583913 + (VLOOKUP($B$1,TimeZones!$A$1:$C$28,2,FALSE))/24 -> 46308.688 | G11: Участник

Sheet 19670 Математика 7 класс
A1: Часовой пояс | B1: Москва (МСК, UTC+3)
A3: Код | B3: ФИО | C3: Набранные баллы | D3: Максимальный балл | E3: ="Время начала сессии (" & VLOOKUP($B$1,TimeZones!$A$1:$C$28,3,FALSE) & ")" -> Время начала сессии (Москва) | F3: ="Время конца сессии (" & VLOOKUP($B$1,TimeZones!$A$1:$C$28,3,FALSE) & ")" -> Время конца сессии (Москва) | G3: Статус | H3: Грамота
A4: 19670/edu822234/7/35487w6w | B4: Бекирова Лиана Серверовна | C4: 42 | D4: 56 | E4: =46309.5605984815 + (VLOOKUP($B$1,TimeZones!$A$1:$C$28,2,FALSE))/24 -> 46309.686 | F4: =46309.6069010505 + (VLOOKUP($B$1,TimeZones!$A$1:$C$28,2,FALSE))/24 -> 46309.732 | G4: Победитель
A5: 19670/edu822234/7/2g69zv49 | B5: Степченко Игорь Евгеньевич | C5: 35 | D5: 56 | E5: =46309.7517519585 + (VLOOKUP($B$1,TimeZones!$A$1:$C$28,2,FALSE))/24 -> 46309.877 | F5: =46309.7621181164 + (VLOOKUP($B$1,TimeZones!$A$1:$C$28,2,FALSE))/24 -> 46309.887 | G5: Призер
A6: 19670/edu822234/7/zv4qgr4w | B6: Стариков Георгий Романович | C6: 21 | D6: 56 | E6: =46309.6635533131 + (VLOOKUP($B$1,TimeZones!$A$1:$C$28,2,FALSE))/24 -> 46309.789 | F6: =46309.7016251726 + (VLOOKUP($B$1,TimeZones!$A$1:$C$28,2,FALSE))/24 -> 46309.827 | G6: Участник
A7: 19670/edu822234/7/q74rg96w | B7: Бухенко Никита Игоревич | C7: 0 | D7: 56 | E7: =46309.6297182921 + (VLOOKUP($B$1,TimeZones!$A$1:$C$28,2,FALSE))/24 -> 46309.755 | F7: =46309.6922182921 + (VLOOKUP($B$1,TimeZones!$A$1:$C$28,2,FALSE))/24 -> 46309.817 | G7: Участник

Sheet 19671 Математика 8 класс
A1: Часовой пояс | B1: Москва (МСК, UTC+3)
A3: Код | B3: ФИО | C3: Набранные баллы | D3: Максимальный балл | E3: ="Время начала сессии (" & VLOOKUP($B$1,TimeZones!$A$1:$C$28,3,FALSE) & ")" -> Время начала сессии (Москва) | F3: ="Время конца сессии (" & VLOOKUP($B$1,TimeZones!$A$1:$C$28,3,FALSE) & ")" -> Время конца сессии (Москва) | G3: Статус | H3: Грамота
A4: 19671/edu822234/8/3568wzvw | B4: Козунко Татьяна Анатольевна | C4: 42 | D4: 56 | E4: =46309.7124394444 + (VLOOKUP($B$1,TimeZones!$A$1:$C$28,2,FALSE))/24 -> 46309.837 | F4: =46309.7215231365 + (VLOOKUP($B$1,TimeZones!$A$1:$C$28,2,FALSE))/24 -> 46309.847 | G4: Победитель
A5: 19671/edu822234/8/2q6259z3 | B5: Саган Василиса Сергеевна | C5: 40 | D5: 56 | E5: =46309.6997932325 + (VLOOKUP($B$1,TimeZones!$A$1:$C$28,2,FALSE))/24 -> 46309.825 | F5: =46309.7207673748 + (VLOOKUP($B$1,TimeZones!$A$1:$C$28,2,FALSE))/24 -> 46309.846 | G5: Призер
A6: 19671/edu822234/8/7964r762 | B6: Безнос Анастасия Николаевна | C6: 14 | D6: 56 | E6: =46309.6173887674 + (VLOOKUP($B$1,TimeZones!$A$1:$C$28,2,FALSE))/24 -> 46309.742 | F6: =46309.6798887674 + (VLOOKUP($B$1,TimeZones!$A$1:$C$28,2,FALSE))/24 -> 46309.805 | G6: Участник
A7: 19671/edu822234/8/q76rg4z8 | B7: Елизаров Артём Олегович | C7: 14 | D7: 56 | E7: =46309.6509310381 + (VLOOKUP($B$1,TimeZones!$A$1:$C$28,2,FALSE))/24 -> 46309.776 | F7: =46309.7134310381 + (VLOOKUP($B$1,TimeZones!$A$1:$C$28,2,FALSE))/24 -> 46309.838 | G7: Участник
A8: 19671/edu822234/8/q565q96g | B8: Мазур Мария Андреевна | C8: 14 | D8: 56 | E8: =46309.7004318934 + (VLOOKUP($B$1,TimeZones!$A$1:$C$28,2,FALSE))/24 -> 46309.825 | F8: =46309.7629318934 + (VLOOKUP($B$1,TimeZones!$A$1:$C$28,2,FALSE))/24 -> 46309.888 | G8: Участник
A9: 19671/edu822234/8/v76g8zrw | B9: Назавов Станислав Дмитриевич | C9: 14 | D9: 56 | E9: =46309.6049125987 + (VLOOKUP($B$1,TimeZones!$A$1:$C$28,2,FALSE))/24 -> 46309.73 | F9: =46309.6674125987 + (VLOOKUP($B$1,TimeZones!$A$1:$C$28,2,FALSE))/24 -> 46309.792 | G9: Участник

Sheet 19672 Математика 9 класс
A1: Часовой пояс | B1: Москва (МСК, UTC+3)
A3: Код | B3: ФИО | C3: Набранные баллы | D3: Максимальный балл | E3: ="Время начала сессии (" & VLOOKUP($B$1,TimeZones!$A$1:$C$28,3,FALSE) & ")" -> Время начала сессии (Москва) | F3: ="Время конца сессии (" & VLOOKUP($B$1,TimeZones!$A$1:$C$28,3,FALSE) & ")" -> Время конца сессии (Москва) | G3: Статус | H3: Грамота
A4: 19672/edu822234/9/2g638vzv | B4: Кучерянова Вероника Евгеньевна | C4: 0 | D4: 56 | E4: =46309.5304262083 + (VLOOKUP($B$1,TimeZones!$A$1:$C$28,2,FALSE))/24 -> 46309.655 | F4: =46309.5586581442 + (VLOOKUP($B$1,TimeZones!$A$1:$C$28,2,FALSE))/24 -> 46309.684 | G4: Участник

Sheet 19673 Математика 10 класс
A1: Часовой пояс | B1: Москва (МСК, UTC+3)
A3: Код | B3: ФИО | C3: Набранные баллы | D3: Максимальный балл | E3: ="Время начала сессии (" & VLOOKUP($B$1,TimeZones!$A$1:$C$28,3,FALSE) & ")" -> Время начала сессии (Москва) | F3: ="Время конца сессии (" & VLOOKUP($B$1,TimeZones!$A$1:$C$28,3,FALSE) & ")" -> Время конца сессии (Москва) | G3: Статус | H3: Грамота
A4: 19673/edu822234/10/q5v5q6vg | B4: Юршин Герман Александрович | C4: 42 | D4: 56 | E4: =46309.6183848377 + (VLOOKUP($B$1,TimeZones!$A$1:$C$28,2,FALSE))/24 -> 46309.743 | F4: =46309.6227705872 + (VLOOKUP($B$1,TimeZones!$A$1:$C$28,2,FALSE))/24 -> 46309.748 | G4: Победитель

Sheet 19674 Математика 11 класс
A1: Часовой пояс | B1: Москва (МСК, UTC+3)
A3: Код | B3: ФИО | C3: Набранные баллы | D3: Максимальный балл | E3: ="Время начала сессии (" & VLOOKUP($B$1,TimeZones!$A$1:$C$28,3,FALSE) & ")" -> Время начала сессии (Москва) | F3: ="Время конца сессии (" & VLOOKUP($B$1,TimeZones!$A$1:$C$28,3,FALSE) & ")" -> Время конца сессии (Москва) | G3: Статус | H3: Грамота
A4: 19674/edu822234/11/v7zvqq43 | B4: Бекирова Милана Серверовна | C4: 42 | D4: 56 | E4: =46309.500330198 + (VLOOKUP($B$1,TimeZones!$A$1:$C$28,2,FALSE))/24 -> 46309.625 | F4: =46309.5153624698 + (VLOOKUP($B$1,TimeZones!$A$1:$C$28,2,FALSE))/24 -> 46309.64 | G4: Победитель
A5: 19674/edu822234/11/35485wz6 | B5: Богданова Влада Сергеевна | C5: 24 | D5: 56 | E5: =46309.5004747095 + (VLOOKUP($B$1,TimeZones!$A$1:$C$28,2,FALSE))/24 -> 46309.625 | F5: =46309.5140440198 + (VLOOKUP($B$1,TimeZones!$A$1:$C$28,2,FALSE))/24 -> 46309.639 | G5: Призер
A6: 19674/edu822234/11/v7zvq435 | B6: Суфянов Эмран Эскендерович | C6: 7 | D6: 56 | E6: =46309.6083330889 + (VLOOKUP($B$1,TimeZones!$A$1:$C$28,2,FALSE))/24 -> 46309.733 | F6: =46309.6120525793 + (VLOOKUP($B$1,TimeZones!$A$1:$C$28,2,FALSE))/24 -> 46309.737 | G6: Участник

Sheet TimeZones
A1: UTC (МСК-3, UTC) | B1: 0 | C1: UTC
A2: Калининград (МСК-1, UTC+2) | B2: 2 | C2: Калининград
A3: Москва (МСК, UTC+3) | B3: 3 | C3: Москва
A4: Симферополь (МСК, UTC+3) | B4: 3 | C4: Симферополь
A5: Киров (МСК, UTC+3) | B5: 3 | C5: Киров
A6: Волгоград (МСК, UTC+3) | B6: 3 | C6: Волгоград
A7: Астрахань (МСК+1, UTC+4) | B7: 4 | C7: Астрахань
A8: Саратов (МСК+1, UTC+4) | B8: 4 | C8: Саратов
A9: Ульяновск (МСК+1, UTC+4) | B9: 4 | C9: Ульяновск
A10: Самара (МСК+1, UTC+4) | B10: 4 | C10: Самара
A11: Екатеринбург (МСК+2, UTC+5) | B11: 5 | C11: Екатеринбург
A12: Омск (МСК+3, UTC+6) | B12: 6 | C12: Омск
... A28: Анадырь (МСК+9, UTC+12) | B28: 12 | C28: Анадырь
